BEGIN:VCALENDAR
VERSION:2.0
PRODID:-//Bleu Wine &amp; Spirits | Rare Tequila &amp; Bourbon | Inland Empire - ECPv6.15.20//NONSGML v1.0//EN
CALSCALE:GREGORIAN
METHOD:PUBLISH
X-WR-CALNAME:Bleu Wine &amp; Spirits | Rare Tequila &amp; Bourbon | Inland Empire
X-ORIGINAL-URL:https://bleuwineandspirits.net
X-WR-CALDESC:Events for Bleu Wine &amp; Spirits | Rare Tequila &amp; Bourbon | Inland Empire
REFRESH-INTERVAL;VALUE=DURATION:PT1H
X-Robots-Tag:noindex
X-PUBLISHED-TTL:PT1H
BEGIN:VTIMEZONE
TZID:America/Los_Angeles
BEGIN:DAYLIGHT
TZOFFSETFROM:-0800
TZOFFSETTO:-0700
TZNAME:PDT
DTSTART:20250309T100000
END:DAYLIGHT
BEGIN:STANDARD
TZOFFSETFROM:-0700
TZOFFSETTO:-0800
TZNAME:PST
DTSTART:20251102T090000
END:STANDARD
BEGIN:DAYLIGHT
TZOFFSETFROM:-0800
TZOFFSETTO:-0700
TZNAME:PDT
DTSTART:20260308T100000
END:DAYLIGHT
BEGIN:STANDARD
TZOFFSETFROM:-0700
TZOFFSETTO:-0800
TZNAME:PST
DTSTART:20261101T090000
END:STANDARD
BEGIN:DAYLIGHT
TZOFFSETFROM:-0800
TZOFFSETTO:-0700
TZNAME:PDT
DTSTART:20270314T100000
END:DAYLIGHT
BEGIN:STANDARD
TZOFFSETFROM:-0700
TZOFFSETTO:-0800
TZNAME:PST
DTSTART:20271107T090000
END:STANDARD
END:VTIMEZONE
BEGIN:VEVENT
DTSTART;TZID=America/Los_Angeles:20260419T143000
DTEND;TZID=America/Los_Angeles:20260419T200000
DTSTAMP:20260419T091949
CREATED:20260307T052634Z
LAST-MODIFIED:20260323T154022Z
UID:13337-1776609000-1776628800@bleuwineandspirits.net
SUMMARY:I Heart Agave Festival 2026
DESCRIPTION:The Most Exclusive Agave Event of the Spring \nJoin us on Sunday\, April 19 at Hidden Acres Events\, a breathtaking 22-acre luxury ranch\, for I ❤️ Agave Fest 2026\, the largest agave tasting ever assembled in the Inland Empire. This one-of-a-kind festival brings together 50 participating brands from across the agave world for a day dedicated to tequila\, mezcal\, innovation\, music\, culture\, and community. \nThe festival begins with an exclusive VIP Experience & Official Ribbon Cutting at 1:00 PM\, featuring the debut of Noban Tequila Club as guests step into the private Farm House for the ceremonial opening of the event. VIP guests will enjoy special access to the Noban Tequila Club Private Casita\, along with two additional private casitas designed for intimate tastings and networking. The lively Tavern Lounge will feature premium pours and curated agave tasting flights while guests enjoy luxury cocktails\, private tasting experiences\, and an exclusive welcome celebration. \nThroughout the ranch\, scenic environments including private casitas\, the tavern\, and outdoor ranch settings will serve as influencer and talent activation zones\, creating stunning backdrops for photography\, video\, and social media content. \nFrom 2:00 PM to 6:00 PM\, the event opens into the main Tasting & Competition Experience\, where guests can explore premium tequila\, mezcal\, and ready-to-drink offerings while meeting the founders\, ambassadors\, and innovators behind the brands. \nThis year’s festival proudly features 50 confirmed brands\, including Title Sponsors Skorpios Tequila\, Hacienda Vieja Tequila\, and Legacy 71 Tequila. \nThe festival will also host several new product launches\, including Amateco\, Brahmido\, El Caballero Mayor\, Jardinero\, Legacy 71\, Los Guayabos\, Mil Lumbres\, Noban Tequila Club\, Ricozito\, Torrente\, Trago Azul\, and Tres Tiempos\, giving guests an exclusive opportunity to experience new spirits making their debut in the agave market. \nAdditional participating brands include Adictivo Craft\, Amatitense\, Arte NOM\, Cantadrink\, Carlitos Spirits\, Casmate\, Cimarron\, Cultura 100\, Don Felix\, Don Salvador\, Firme\, Fuego\, Fuenteseca\, Homies\, JH El Torito\, Joya Maestra\, Lote M 77\, Madre Mezcal\, Madre Tequila\, Maison Solis Fragrance\, Manuscrito\, Mi Gusto Es\, Nicali Cigars\, Nobleza Cigars\, Panchitos\, Pura Sangre\, RG Legado\, Rufina\, Siempre\, Sie7e Deseos\, Soluro\, Tau\, Tierra de Ensueño\, Yuzy\, and Yeyo. \nGuests will also be able to explore several immersive attractions across the ranch\, including the Agave Museum & Shop\, where attendees can learn about agave heritage\, discover specialty merchandise\, and purchase limited-edition releases from participating brands. \nThe festival atmosphere will be energized by live music and DJ performances\, blending Latin rhythms with modern festival energy as guests explore the property and enjoy tastings throughout the afternoon. \nParticipating spirits will also compete in the official I ❤️ Agave Fest Competition\, where expert judges and guests will celebrate excellence in several categories including Best Blanco\, Best Reposado\, Best Añejo\, Best High Proof\, Best Mezcal\, Best RTD\, and Best of Show. \nThe celebration continues with the VIP After Party from 6:00 PM to 8:00 PM\, where VIP ticket holders will enjoy a high-energy finale under the open skies of Hidden Acres Ranch. The after party will feature DJ-driven music\, specialty cocktails\, curated pairings\, networking with brand ambassadors and talent\, and the official celebration of the competition winners. \nSet against the scenic landscape of Hidden Acres Ranch\, I ❤️ Agave Fest 2026 offers a rare opportunity to experience the craftsmanship\, culture\, and community of agave spirits all in one place. With 50 participating brands\, new product launches\, immersive experiences\, and exclusive VIP access\, the festival promises to be one of the most exciting agave gatherings of the year. \n  \nTickets:\nhttps://www.eventbrite.com/e/i-heart-agave-festival-tickets-1983623454149
URL:https://bleuwineandspirits.net/event/i-heart-agave-festival-2026/
LOCATION:CA
CATEGORIES:Festival
ATTACH;FMTTYPE=image/webp:https://bleuwineandspirits.net/wp-content/uploads/2026/03/image_ilovetequila.webp
END:VEVENT
END:VCALENDAR